BEGIN:VCALENDAR
VERSION:2.0
PRODID:-//ChamberMaster//Event Calendar 2.0//EN
METHOD:PUBLISH
X-PUBLISHED-TTL:P3D
REFRESH-INTERVAL:P3D
CALSCALE:GREGORIAN
BEGIN:VEVENT
DTSTART:20191015T230000Z
DTEND:20191016T010000Z
X-MICROSOFT-CDO-ALLDAYEVENT:FALSE
SUMMARY:Wellness Symposium: Methamphetamine Epidemic
DESCRIPTION:Learn about Methamphetamine Epidemic: WHAT IT IS\, the COMMUNITY IMPACT\, the TREATMENT PROCESS\, and a PERSONAL PERSPECTIVE.\n\n\n\nPresentations by:\n\nKristi Noem\, South Dakota Governor\n\nDetective Brad Jung\, Aberdeen Police Department\n\nBrant Winter\, Aberdeen Fire & Rescue\n\nCrystal Christenson\, A Family's Journey\n\nJim White\, MS Ed\, LAC\, Northeastern Mental Health Center\n\nDave Jansa\, Face It Together\n\n\n\nHosted By The Aberdeen Area Chamber of Commerce\n\nSponsored By Norther State University
X-ALT-DESC;FMTTYPE=text/html:Learn about Methamphetamine Epidemic: <strong>WHAT IT IS</strong>\, the <strong>COMMUNITY IMPACT</strong>\, the <strong>TREATMENT PROCESS</strong>\, and a <strong>PERSONAL PERSPECTIVE</strong>.<br />\n<br />\n<u>Presentations by:</u><br />\nKristi Noem\, <em>South Dakota Governor</em><br />\nDetective Brad Jung\,<em> Aberdeen Police Department</em><br />\nBrant Winter\, <em>Aberdeen Fire &amp\; Rescue</em><br />\nCrystal Christenson\, <em>A Family&#39\;s Journey</em><br />\nJim White\, MS Ed\, LAC\, <em>Northeastern Mental Health Center</em><br />\nDave Jansa\, <em>Face It Together</em><br />\n<br />\nHosted By The Aberdeen Area Chamber of Commerce<br />\nSponsored By Norther State University<br />\n<br />\n&nbsp\;
LOCATION:Johnson Fine Arts Center\, Northern State University
UID:e.3086.6351
SEQUENCE:3
DTSTAMP:20260422T095917Z
URL:https://business.aberdeen-chamber.com/events/details/wellness-symposium-methamphetamine-epidemic-6351
END:VEVENT

END:VCALENDAR
