BEGIN:VCALENDAR
VERSION:2.0
PRODID:-//ChamberMaster//Event Calendar 2.0//EN
METHOD:PUBLISH
X-PUBLISHED-TTL:P3D
REFRESH-INTERVAL:P3D
CALSCALE:GREGORIAN
BEGIN:VEVENT
DTSTART:20250626T163000Z
DTEND:20250626T180000Z
X-MICROSOFT-CDO-ALLDAYEVENT:FALSE
SUMMARY:The EDGE Luncheon- "Why Aberdeen"
DESCRIPTION:What inspires someone to turn an idea into a business and choose Aberdeen as the place to do it?\n\nJoin us for an energizing EDGE Luncheon where a panel of young entrepreneurs will share their personal stories\, motivations\, and the "why" behind launching and growing their businesses right here at home.\n\n\n\nThe EDGE is for early career professionals ages 21-40.
X-ALT-DESC;FMTTYPE=text/html:<p data-end="227" data-start="125"><strong data-end="225" data-start="125">What inspires someone to turn an idea into a business&mdash\;and choose Aberdeen as the place to do it?</strong></p>\n\n<p data-end="435" data-start="229">Join us for an energizing EDGE Luncheon where a panel of young entrepreneurs will share their personal stories\, motivations\, and the &ldquo\;why&rdquo\; behind launching and growing their businesses right here at home.<br />\n<br />\nThe EDGE is for early career professionals ages 21-40.&nbsp\;</p>\n
LOCATION:Canterbury Deli & Catering- Patio Area 412 S Main St Lunch will be provided
UID:e.3086.9439
SEQUENCE:3
DTSTAMP:20260419T181205Z
URL:https://business.aberdeen-chamber.com/events/details/the-edge-luncheon-why-aberdeen-9439
END:VEVENT

END:VCALENDAR
