BEGIN:VCALENDAR
VERSION:2.0
PRODID:-//ChamberMaster//Event Calendar 2.0//EN
METHOD:PUBLISH
X-PUBLISHED-TTL:P3D
REFRESH-INTERVAL:P3D
CALSCALE:GREGORIAN
BEGIN:VEVENT
DTSTART:20180727T000000Z
DTEND:20180727T030000Z
X-MICROSOFT-CDO-ALLDAYEVENT:FALSE
SUMMARY:The EDGE
DESCRIPTION:Aberdeen Young Professionals\n\nJoin us for beverages\, hor 'doeuvres\, & socializing.
X-ALT-DESC;FMTTYPE=text/html:Aberdeen Young Professionals<br />\nJoin us for beverages\, hor &#39\;doeuvres\, &amp\; socializing.&nbsp\;
LOCATION:Wakeside Bar & Grill 103 S. Sunset Drive\, Mina\, SD
UID:e.3086.5356
SEQUENCE:3
DTSTAMP:20260423T075804Z
URL:https://business.aberdeen-chamber.com/events/details/the-edge-5356
END:VEVENT

END:VCALENDAR
