BEGIN:VCALENDAR
VERSION:2.0
PRODID:-//ChamberMaster//Event Calendar 2.0//EN
METHOD:PUBLISH
X-PUBLISHED-TTL:P3D
REFRESH-INTERVAL:P3D
CALSCALE:GREGORIAN
BEGIN:VEVENT
DTSTART:20241114T180000Z
DTEND:20241114T190000Z
X-MICROSOFT-CDO-ALLDAYEVENT:FALSE
SUMMARY:SD Chamber Pre-Legislative Tour
DESCRIPTION:Join us as we hear from South Dakota Chamber of Commerce and Industry President David Owen. David will preview the 2025 legislative session from the South Dakota Chamber's perspective.
X-ALT-DESC;FMTTYPE=text/html:<span style="font-size: 12pt\;"><font face="Calibri">Join us as we hear from South Dakota Chamber of Commerce and Industry President David Owen. David will preview the 2025 legislative session from the South Dakota Chamber&#39\;s perspective.</font></span>
LOCATION:Engel Event Company 209 S Main St
UID:e.3086.9256
SEQUENCE:3
DTSTAMP:20260420T040251Z
URL:https://business.aberdeen-chamber.com/events/details/sd-chamber-pre-legislative-tour-9256
END:VEVENT

END:VCALENDAR
