BEGIN:VCALENDAR
VERSION:2.0
PRODID:-//ChamberMaster//Event Calendar 2.0//EN
METHOD:PUBLISH
X-PUBLISHED-TTL:P3D
REFRESH-INTERVAL:P3D
CALSCALE:GREGORIAN
BEGIN:VEVENT
DTSTART:20250811T200000Z
DTEND:20250811T210000Z
X-MICROSOFT-CDO-ALLDAYEVENT:FALSE
SUMMARY:Ribbon Cutting- Tropical Smoothie
DESCRIPTION:
X-ALT-DESC;FMTTYPE=text/html:
LOCATION:Ribbon Cutting for Tropical Smoothie 3408 7th Ave SE
UID:e.3086.9457
SEQUENCE:3
DTSTAMP:20260419T162709Z
URL:https://business.aberdeen-chamber.com/events/details/ribbon-cutting-tropical-smoothie-9457
END:VEVENT

END:VCALENDAR
