BEGIN:VCALENDAR
VERSION:2.0
PRODID:-//ChamberMaster//Event Calendar 2.0//EN
METHOD:PUBLISH
X-PUBLISHED-TTL:P3D
REFRESH-INTERVAL:P3D
CALSCALE:GREGORIAN
BEGIN:VEVENT
DTSTART:20250808T160000Z
DTEND:20250808T170000Z
X-MICROSOFT-CDO-ALLDAYEVENT:FALSE
SUMMARY:Ribbon Cutting- Saddle Corral
DESCRIPTION:
X-ALT-DESC;FMTTYPE=text/html:
LOCATION:Join us for the Grand Opening and Ribbon Cutting for Saddle Corral! 1116 6th Ave SE
UID:e.3086.9458
SEQUENCE:3
DTSTAMP:20260419T150702Z
URL:https://business.aberdeen-chamber.com/events/details/ribbon-cutting-saddle-corral-9458
END:VEVENT

END:VCALENDAR
