BEGIN:VCALENDAR
VERSION:2.0
PRODID:-//ChamberMaster//Event Calendar 2.0//EN
METHOD:PUBLISH
X-PUBLISHED-TTL:P3D
REFRESH-INTERVAL:P3D
CALSCALE:GREGORIAN
BEGIN:VEVENT
DTSTART:20250725T190000Z
DTEND:20250725T200000Z
X-MICROSOFT-CDO-ALLDAYEVENT:FALSE
SUMMARY:Ribbon Cutting- Pinned Workshop
DESCRIPTION:Join us for a Ribbon Cutting for the new owner\, Jessica Land\, and new location of Pinned Workshop!
X-ALT-DESC;FMTTYPE=text/html:Join us for a Ribbon Cutting for the new owner\, Jessica Land\, and new location of Pinned Workshop!&nbsp\;
LOCATION:Pinned Workshop 3315 6th Ave SE Ste 51 Inside UpTown Aberdeen
UID:e.3086.9440
SEQUENCE:3
DTSTAMP:20260419T180038Z
URL:https://business.aberdeen-chamber.com/events/details/ribbon-cutting-pinned-workshop-9440
END:VEVENT

END:VCALENDAR
