BEGIN:VCALENDAR
VERSION:2.0
PRODID:-//ChamberMaster//Event Calendar 2.0//EN
METHOD:PUBLISH
X-PUBLISHED-TTL:P3D
REFRESH-INTERVAL:P3D
CALSCALE:GREGORIAN
BEGIN:VEVENT
DTSTART:20251023T210000Z
DTEND:20251023T220000Z
X-MICROSOFT-CDO-ALLDAYEVENT:FALSE
SUMMARY:Ribbon Cutting- Allevity
DESCRIPTION:
X-ALT-DESC;FMTTYPE=text/html:
LOCATION:Join for a Ribbon Cutting as we celebrate the newly remodel space for Allevity!
UID:e.3086.9473
SEQUENCE:3
DTSTAMP:20260419T134011Z
URL:https://business.aberdeen-chamber.com/events/details/ribbon-cutting-allevity-9473
END:VEVENT

END:VCALENDAR
