BEGIN:VCALENDAR
VERSION:2.0
PRODID:-//ChamberMaster//Event Calendar 2.0//EN
METHOD:PUBLISH
X-PUBLISHED-TTL:P3D
REFRESH-INTERVAL:P3D
CALSCALE:GREGORIAN
BEGIN:VEVENT
DTSTART:20180813T190000Z
DTEND:20180813T220000Z
X-MICROSOFT-CDO-ALLDAYEVENT:FALSE
SUMMARY:Regal Beloit 125th Anniversary Celebration
DESCRIPTION:Regel Beloit 125 anniversary celebration.
X-ALT-DESC;FMTTYPE=text/html:<span style="font-family:calibri\,sans-serif\;"><span style="font-size:11.0pt\;">Regel Beloit 125 anniversary celebration.</span></span>
LOCATION:2914 Industrial Ave
UID:e.3086.5442
SEQUENCE:3
DTSTAMP:20260423T065003Z
URL:https://business.aberdeen-chamber.com/events/details/regal-beloit-125th-anniversary-celebration-5442
END:VEVENT

END:VCALENDAR
