BEGIN:VCALENDAR
VERSION:2.0
PRODID:-//ChamberMaster//Event Calendar 2.0//EN
METHOD:PUBLISH
X-PUBLISHED-TTL:P3D
REFRESH-INTERVAL:P3D
CALSCALE:GREGORIAN
BEGIN:VEVENT
DTSTART:20250701T170000Z
DTEND:20250701T180000Z
X-MICROSOFT-CDO-ALLDAYEVENT:FALSE
SUMMARY:Military & Veterans Committee Meeting
DESCRIPTION:The meeting of the Military & Veterans Committee. The mission of the committee is to promote a positive working relationship among the community\, employers and area military and veterans groups while heightening awareness of the military and veteran presence and needs in the community. The group meets the first Tuesday of every other month.
X-ALT-DESC;FMTTYPE=text/html:The meeting of the Military &amp\; Veterans Committee. The mission of the committee is to promote a positive working relationship among the community\, employers and area military and veterans groups while heightening awareness of the military and veteran presence and needs in the community. The group meets the first Tuesday of every other month.
LOCATION:Chamber Conference Room or Zoom https://us06web.zoom.us/j/85769795946?pwd=aa9pWmFgxE5VimnEatwlShz1YgvLBU.1
UID:e.3086.9361
SEQUENCE:3
DTSTAMP:20260419T162956Z
URL:https://business.aberdeen-chamber.com/events/details/military-veterans-committee-meeting-9361
END:VEVENT

END:VCALENDAR
