BEGIN:VCALENDAR
VERSION:2.0
PRODID:-//ChamberMaster//Event Calendar 2.0//EN
METHOD:PUBLISH
X-PUBLISHED-TTL:P3D
REFRESH-INTERVAL:P3D
CALSCALE:GREGORIAN
BEGIN:VEVENT
DTSTART:20250930T170000Z
DTEND:20250930T180000Z
X-MICROSOFT-CDO-ALLDAYEVENT:FALSE
SUMMARY:Military & Veterans Committee Meeting
DESCRIPTION:Agenda\n\nMinutes\n\n\n\nThe mission of the Military & Veterans Committee is to promote a positive working relationship among the community\, employers and area military and veterans' groups while heightening awareness of the military and veteran presence and needs in the community. The group meets the first Tuesday of every other month.
X-ALT-DESC;FMTTYPE=text/html:<a href="https://chambermaster.blob.core.windows.net/userfiles/UserFiles/chambers/3086/File/MilVets/Military-Veterans9-30-25.doc">Agenda</a><br />\n<a href="https://chambermaster.blob.core.windows.net/userfiles/UserFiles/chambers/3086/File/MilVets/Miltary-VeteransMinutes7-1-25.docx">Minutes</a><br />\n<br />\nThe mission of the Military &amp\; Veterans Committee is to promote a positive working relationship among the community\, employers and area military and veterans&#39\; groups while heightening awareness of the military and veteran presence and needs in the community. The group meets the first Tuesday of every other month.
LOCATION:Military & Veteran Committee Meeting 12:00 pm Chamber Conference Room (Use 514 S Main Street Front Entrance) Chamber Conference Room of via Zoom at: https://us06web.zoom.us/j/85769795946?pwd=aa9pWmFgxE5VimnEatwlShz1YgvLBU.1 Meeting ID: 857 6979 5946 Passcode: 898343
UID:e.3086.8399
SEQUENCE:3
DTSTAMP:20260419T144759Z
URL:https://business.aberdeen-chamber.com/events/details/military-veterans-committee-meeting-11-04-2025-8399
END:VEVENT

END:VCALENDAR
