BEGIN:VCALENDAR
VERSION:2.0
PRODID:-//ChamberMaster//Event Calendar 2.0//EN
METHOD:PUBLISH
X-PUBLISHED-TTL:P3D
REFRESH-INTERVAL:P3D
CALSCALE:GREGORIAN
BEGIN:VEVENT
DTSTART:20250404T170000Z
DTEND:20250404T180000Z
X-MICROSOFT-CDO-ALLDAYEVENT:FALSE
SUMMARY:Military & Veterans Committee Meeting
DESCRIPTION:The mission of the Military & Veterans Committee is to promote a positive working relationship among the community\, employers and area military and veterans' groups while heightening awareness of the military and veteran presence and needs in the community. The group meets the first Tuesday of every other month.
X-ALT-DESC;FMTTYPE=text/html:The mission of the Military &amp\; Veterans Committee is to promote a positive working relationship among the community\, employers and area military and veterans&#39\; groups while heightening awareness of the military and veteran presence and needs in the community. The group meets the first Tuesday of every other month.
LOCATION:Military & Veteran Committee Meeting 12:00 pm Chamber Conference Room (Use 514 S Main Street Front Entrance) Guest Speaker will be Aaron Van Beek of Midwest Honor Flight
UID:e.3086.8395
SEQUENCE:3
DTSTAMP:20260419T204117Z
URL:https://business.aberdeen-chamber.com/events/details/military-veterans-committee-meeting-03-04-2025-8395
END:VEVENT

END:VCALENDAR
