BEGIN:VCALENDAR
VERSION:2.0
PRODID:-//ChamberMaster//Event Calendar 2.0//EN
METHOD:PUBLISH
X-PUBLISHED-TTL:P3D
REFRESH-INTERVAL:P3D
CALSCALE:GREGORIAN
BEGIN:VEVENT
DTSTART;VALUE=DATE:20250619
DTEND;VALUE=DATE:20250620
TRANSP:TRANSPARENT
X-MICROSOFT-CDO-ALLDAYEVENT:TRUE
SUMMARY:Juneteenth
DESCRIPTION:Office Closed
X-ALT-DESC;FMTTYPE=text/html:Office Closed
LOCATION:
UID:e.3086.9335
SEQUENCE:3
DTSTAMP:20260419T175859Z
URL:https://business.aberdeen-chamber.com/events/details/juneteenth-9335
END:VEVENT

END:VCALENDAR
