BEGIN:VCALENDAR
VERSION:2.0
PRODID:-//ChamberMaster//Event Calendar 2.0//EN
METHOD:PUBLISH
X-PUBLISHED-TTL:P3D
REFRESH-INTERVAL:P3D
CALSCALE:GREGORIAN
BEGIN:VEVENT
DTSTART:20250710T213000Z
DTEND:20250710T233000Z
X-MICROSOFT-CDO-ALLDAYEVENT:FALSE
SUMMARY:July 2025 Business After Hours Mixer
DESCRIPTION:Looking to take your networking to the next level? Join us for our next Business After Hours Mixer hosted by Dacotah Bank. We're heading outside  - on Main Street in front of the Aberdeen Community Theatre!  Enjoy the mixer\, than stay for the 2nd downtown concert of the summer!\n\n\n\nThis is your chance to elevate your business in a fun\, relaxed atmosphere. Let's make connections that count!\n\n\n\nBusiness After Hours mixers will take place from 4:30 PM to 6:30 PM\, offering more flexibility to balance work and family commitments. Arrive whenever it fits your schedule\, with the program starting at 5:45 pm.\n\n \n\nNO CHARGE! You read that right. IF YOU WORK FOR A CHAMBER MEMBER\, IT'S FREE for you to attend thanks to our host and the annual sponsors listed above. We just ask you to register on this page\, or call the Chamber at (605) 225-2860. If you are not a Chamber member\, but want to find out what it's all about\, you can still attend for $35.00.\n\n \n\nNEW MEMBERS: Stop by and visit our new members\, Uptown Hair\, Dakota Roots\, and Bethlehem Lutheran Church at their booths.\n\n \n\nMEMBER MILESTONES: Join us as we recognize the following business anniversaries:\n\n\n	Dacotah Bank - 70 years\n	Aberdeen Community Theatre - 45 years\n	Climate Control - 25 years\n	Dacotah Bank East - 25 years\n	Dakota Structured Cabling - 10 Years\n\n\n \n\nCATERING BY: Enjoy fantastic beverages courtesy of The Pit Stop and yummy hors d'oeuvres from Shagan Pit.
X-ALT-DESC;FMTTYPE=text/html:<p background-color:="" century="" font-size:="" style="margin: 0px\; padding: 0px\; color: rgb(51\, 51\, 51)\; font-family: " white-space-collapse:=""><span style="font-size:14px\;"><span style="color: rgb(51\, 51\, 51)\; font-family: arial\; background-color: rgb(255\, 255\, 255)\;">Looking to take your networking to the next level? Join us for our next Business After Hours Mixer hosted by Dacotah Bank. We&#39\;re heading outside&nbsp\; - on Main Street in front of the Aberdeen Community Theatre!&nbsp\; Enjoy the mixer\, than stay for the 2nd downtown concert of the summer!<br />\n<br />\nThis is your chance to elevate your business in a fun\, relaxed atmosphere.&nbsp\;Let&rsquo\;s make connections that count!</span><br />\n<br />\n<span open="" style="color: rgb(45\, 50\, 53)\; font-family: ">Business After Hours mixers will take place from&nbsp\;</span><span open="" style="color: rgb(45\, 50\, 53)\; font-weight: bold\; font-family: ">4:30 PM to 6:30 PM</span><span open="" style="color: rgb(45\, 50\, 53)\; font-family: ">\,&nbsp\;offering more flexibility to balance work and family commitments. Arrive whenever it fits your schedule\, with the program starting at 5:45 pm.</span></span><br />\n&nbsp\;</p>\n\n<p background-color:="" century="" font-size:="" style="margin: 0px\; padding: 0px\; color: rgb(51\, 51\, 51)\; font-family: " white-space-collapse:=""><span style="font-size:14px\;"><span open="" style="color: rgb(45\, 50\, 53)\; font-weight: bold\; font-family: ">NO CHARGE!&nbsp\;</span><span open="" style="color: rgb(45\, 50\, 53)\; font-family: ">You read that right.&nbsp\;</span><span open="" style="color: rgb(45\, 50\, 53)\; font-weight: bold\; font-family: ">IF YOU WORK FOR A CHAMBER MEMBER\, IT&#39\;S FREE</span><span open="" style="color: rgb(45\, 50\, 53)\; font-family: ">&nbsp\;for you to attend thanks to our host and the annual sponsors listed above. We just ask you to register on this page\, or call the Chamber at (605) 225-2860. If you are not a Chamber member\, but want to find out what it&#39\;s all about\, you can still attend for $35.00.</span></span></p>\n\n<p background-color:="" century="" font-size:="" style="margin: 0px\; padding: 0px\; color: rgb(51\, 51\, 51)\; font-family: " white-space-collapse:="">&nbsp\;</p>\n\n<p background-color:="" century="" font-size:="" style="margin: 0px\; padding: 0px\; color: rgb(51\, 51\, 51)\; font-family: " white-space-collapse:=""><span style="font-size:14px\;"><span open="" style="color: rgb(45\, 50\, 53)\; font-weight: bold\; font-family: ">NEW MEMBERS:&nbsp\;</span><span open="" style="color: rgb(45\, 50\, 53)\; font-family: ">Stop by and visit our new members\,&nbsp\;</span><span font-weight:="" open="" style="color: rgb(45\, 50\, 53)\; font-family: "><strong>Uptown Hair</strong>\,</span><span open="" style="color: rgb(45\, 50\, 53)\; font-family: "> </span><strong><span font-weight:="" open="" style="color: rgb(45\, 50\, 53)\; font-family: ">Dakota Roots</span></strong><span open="" style="color: rgb(45\, 50\, 53)\; font-family: ">\, and </span><strong><span font-weight:="" open="" style="color: rgb(45\, 50\, 53)\; font-family: ">Bethlehem Lutheran Church</span></strong><span open="" style="color: rgb(45\, 50\, 53)\; font-family: "> at their booths.</span></span></p>\n\n<p background-color:="" century="" font-size:="" style="margin: 0px\; padding: 0px\; color: rgb(51\, 51\, 51)\; font-family: " white-space-collapse:="">&nbsp\;</p>\n\n<p background-color:="" century="" font-size:="" style="margin: 0px\; padding: 0px\; color: rgb(51\, 51\, 51)\; font-family: " white-space-collapse:=""><span style="font-size:14px\;"><span open="" style="color: rgb(45\, 50\, 53)\; font-weight: bold\; font-family: ">MEMBER MILESTONES:</span><span open="" style="color: rgb(45\, 50\, 53)\; font-family: ">&nbsp\;Join us as we recognize the following business anniversaries:</span></span></p>\n\n<ul background-color:="" century="" font-size:="" style="margin: 0px 0px 0px 40px\; padding: 0px\; color: rgb(51\, 51\, 51)\; font-family: " white-space-collapse:="">\n	<li style="padding: 0px\; margin: 0px\; font-size: 15px\; color: rgb(45\, 50\, 53)\;"><span style="font-size:14px\;"><span open="" style="font-family: ">Dacotah Bank - 70 years</span></span></li>\n	<li style="padding: 0px\; margin: 0px\; font-size: 15px\; color: rgb(45\, 50\, 53)\;"><span style="font-size:14px\;"><span open="" style="font-family: ">Aberdeen Community Theatre - 45 years</span></span></li>\n	<li style="padding: 0px\; margin: 0px\; font-size: 15px\; color: rgb(45\, 50\, 53)\;"><span style="font-size:14px\;"><span open="" style="font-family: ">Climate Control - 25 years</span></span></li>\n	<li style="padding: 0px\; margin: 0px\; font-size: 15px\; color: rgb(45\, 50\, 53)\;"><span style="font-size:14px\;"><span open="" style="font-family: ">Dacotah Bank East - 25 years</span></span></li>\n	<li style="padding: 0px\; margin: 0px\; font-size: 15px\; color: rgb(45\, 50\, 53)\;"><span style="font-size:14px\;"><span open="" style="font-family: ">Dakota Structured Cabling - 10 Years</span></span></li>\n</ul>\n\n<p background-color:="" century="" font-size:="" style="margin: 0px\; padding: 0px\; color: rgb(51\, 51\, 51)\; font-family: " white-space-collapse:="">&nbsp\;</p>\n\n<p background-color:="" century="" font-size:="" style="margin: 0px\; padding: 0px\; color: rgb(51\, 51\, 51)\; font-family: " white-space-collapse:=""><span style="font-size:14px\;"><span open="" style="color: rgb(45\, 50\, 53)\; font-weight: bold\; font-family: ">CATERING BY:&nbsp\;</span><span open="" style="color: rgb(45\, 50\, 53)\; font-family: ">Enjoy fantastic beverages courtesy of&nbsp\;</span><span font-weight:="" open="" style="color: rgb(45\, 50\, 53)\; font-family: ">The Pit Stop&nbsp\;</span><span open="" style="color: rgb(45\, 50\, 53)\; font-family: ">and yummy hors d&#39\;oeuvres from&nbsp\;</span><span font-weight:="" open="" style="color: rgb(45\, 50\, 53)\; font-family: ">Shagan Pit.</span></span></p>\n
LOCATION:
UID:e.3086.9328
SEQUENCE:3
DTSTAMP:20260419T180551Z
URL:https://business.aberdeen-chamber.com/events/details/july-2025-business-after-hours-mixer-9328
END:VEVENT

END:VCALENDAR
