BEGIN:VCALENDAR
VERSION:2.0
PRODID:-//ChamberMaster//Event Calendar 2.0//EN
METHOD:PUBLISH
X-PUBLISHED-TTL:P3D
REFRESH-INTERVAL:P3D
CALSCALE:GREGORIAN
BEGIN:VEVENT
DTSTART:20240805T180000Z
DTEND:20240805T181500Z
X-MICROSOFT-CDO-ALLDAYEVENT:FALSE
SUMMARY:Horizon Health Aberdeen Ribbon Cutting & Member Milestone
DESCRIPTION:10 Year milestone and ribbon cutting for rebranding
X-ALT-DESC;FMTTYPE=text/html:10 Year milestone and ribbon cutting for rebranding
LOCATION:
UID:e.3086.9018
SEQUENCE:3
DTSTAMP:20260420T085050Z
URL:https://business.aberdeen-chamber.com/events/details/horizon-health-aberdeen-ribbon-cutting-member-milestone-9018
END:VEVENT

END:VCALENDAR
