BEGIN:VCALENDAR
VERSION:2.0
PRODID:-//ChamberMaster//Event Calendar 2.0//EN
METHOD:PUBLISH
X-PUBLISHED-TTL:P3D
REFRESH-INTERVAL:P3D
CALSCALE:GREGORIAN
BEGIN:VEVENT
DTSTART:20241204T180000Z
DTEND:20241204T190000Z
X-MICROSOFT-CDO-ALLDAYEVENT:FALSE
SUMMARY:Health & Wellness Committee Meeting
DESCRIPTION:Monthly meeting of the Health & Wellness Committee. The mission of the Health & Wellness Committee is to implement business-healthcare partnerships and programs to promote workplace wellness and inspire healthy lifestyle choices through education and initiatives. The committee produces a community health and wellness directory available as a magazine directory and searchable online. This committee meets the first Wednesday of every month at 12 noon at various locations.
X-ALT-DESC;FMTTYPE=text/html:<p>Monthly meeting of the Health &amp\; Wellness Committee. The mission of the Health &amp\; Wellness Committee is to implement business-healthcare partnerships and programs to promote workplace wellness and inspire healthy lifestyle choices through education and initiatives. The committee produces a community health and wellness directory available as a magazine directory and searchable online. This committee meets the first Wednesday of every&nbsp\;month at 12 noon at various locations.</p>\n
LOCATION:Chamber Conference Room or Zoom Join Zoom Meeting https://us06web.zoom.us/j/98940173582?pwd=RjVWTnIrTVB6QUJiMW9iSGk3UWhiUT09 Meeting ID: 989 4017 3582 Passcode: 900779
UID:e.3086.6164
SEQUENCE:3
DTSTAMP:20260420T085608Z
URL:https://business.aberdeen-chamber.com/events/details/health-wellness-committee-meeting-12-04-2024-6164
END:VEVENT

END:VCALENDAR
