BEGIN:VCALENDAR
VERSION:2.0
PRODID:-//ChamberMaster//Event Calendar 2.0//EN
METHOD:PUBLISH
X-PUBLISHED-TTL:P3D
REFRESH-INTERVAL:P3D
CALSCALE:GREGORIAN
BEGIN:VEVENT
DTSTART:20241008T170000Z
DTEND:20241008T170000Z
X-MICROSOFT-CDO-ALLDAYEVENT:FALSE
SUMMARY:Hat and Mitten Drive
DESCRIPTION:
X-ALT-DESC;FMTTYPE=text/html:
LOCATION:
UID:e.3086.9034
SEQUENCE:3
DTSTAMP:20260420T065748Z
URL:https://business.aberdeen-chamber.com/events/details/hat-and-mitten-drive-9034
END:VEVENT

END:VCALENDAR
