BEGIN:VCALENDAR
VERSION:2.0
PRODID:-//ChamberMaster//Event Calendar 2.0//EN
METHOD:PUBLISH
X-PUBLISHED-TTL:P3D
REFRESH-INTERVAL:P3D
CALSCALE:GREGORIAN
BEGIN:VEVENT
DTSTART;VALUE=DATE:20250617
DTEND;VALUE=DATE:20250618
TRANSP:TRANSPARENT
X-MICROSOFT-CDO-ALLDAYEVENT:TRUE
SUMMARY:HAPI 25th Celebration\, HAPI Ground Breaking\, & Park Dedication
DESCRIPTION:
X-ALT-DESC;FMTTYPE=text/html:
LOCATION:HAPI is having a 25th year celebration\, along with a Park dedication (with the City of Aberdeen) Ground Breaking for HAPI 2nd NORTH & Juletta Lane. Yes\, all in one day!
UID:e.3086.9433
SEQUENCE:3
DTSTAMP:20260419T180816Z
URL:https://business.aberdeen-chamber.com/events/details/hapi-25th-celebration-hapi-ground-breaking-park-dedication-9433
END:VEVENT

END:VCALENDAR
