BEGIN:VCALENDAR
VERSION:2.0
PRODID:-//ChamberMaster//Event Calendar 2.0//EN
METHOD:PUBLISH
X-PUBLISHED-TTL:P3D
REFRESH-INTERVAL:P3D
CALSCALE:GREGORIAN
BEGIN:VEVENT
DTSTART:20250811T133000Z
DTEND:20250811T140000Z
X-MICROSOFT-CDO-ALLDAYEVENT:FALSE
SUMMARY:Ground Breaking - Safe Harbor Pet Apartments
DESCRIPTION:Safe Harbor is adding pet apartments to their facility! \n\n\n\nAccording to the ASPCA 18-48% of survivors either delay leaving or return to the abuser of of fear for their pets. With their new private\, climate controlled space\, their survivors pets can safely stay protected from harm and not be left behind.
X-ALT-DESC;FMTTYPE=text/html:Safe Harbor is adding pet apartments to their facility!&nbsp\;<br />\n<br />\nAccording to the ASPCA 18-48% of survivors either delay leaving or return to the abuser of of fear for their pets.&nbsp\;With their new private\, climate controlled space\, their survivors pets can safely stay protected from harm and not be left behind.&nbsp\;
LOCATION:2005 S Merton St.
UID:e.3086.9459
SEQUENCE:3
DTSTAMP:20260419T151228Z
URL:https://business.aberdeen-chamber.com/events/details/ground-breaking-safe-harbor-pet-apartments-9459
END:VEVENT

END:VCALENDAR
