BEGIN:VCALENDAR
VERSION:2.0
PRODID:-//ChamberMaster//Event Calendar 2.0//EN
METHOD:PUBLISH
X-PUBLISHED-TTL:P3D
REFRESH-INTERVAL:P3D
CALSCALE:GREGORIAN
BEGIN:VEVENT
DTSTART:20250710T130000Z
DTEND:20250710T143000Z
X-MICROSOFT-CDO-ALLDAYEVENT:FALSE
SUMMARY:Executive Board Meeting
DESCRIPTION:
X-ALT-DESC;FMTTYPE=text/html:
LOCATION:Chamber Conference Room or Join Zoom Meeting: https://us06web.zoom.us/j/84034080887 Meeting ID: 840 3408 0887 +12532158782\,\,84034080887# Meeting ID: 840 3408 0887US
UID:e.3086.8285
SEQUENCE:3
DTSTAMP:20260419T175644Z
URL:https://business.aberdeen-chamber.com/events/details/executive-board-meeting-07-11-2025-8285
END:VEVENT

END:VCALENDAR
