BEGIN:VCALENDAR
VERSION:2.0
PRODID:-//ChamberMaster//Event Calendar 2.0//EN
METHOD:PUBLISH
X-PUBLISHED-TTL:P3D
REFRESH-INTERVAL:P3D
CALSCALE:GREGORIAN
BEGIN:VEVENT
DTSTART:20250630T180000Z
DTEND:20250630T190000Z
X-MICROSOFT-CDO-ALLDAYEVENT:FALSE
SUMMARY:Enhanced Ribbon Cutting- Lincoln Repair
DESCRIPTION:
X-ALT-DESC;FMTTYPE=text/html:
LOCATION:Join us for this Enhanced Ribbon Cutting for Lincoln Repair! 615 6th Ave SE.
UID:e.3086.9442
SEQUENCE:3
DTSTAMP:20260419T192042Z
URL:https://business.aberdeen-chamber.com/events/details/enhanced-ribbon-cutting-lincoln-repair-9442
END:VEVENT

END:VCALENDAR
