BEGIN:VCALENDAR
VERSION:2.0
PRODID:-//ChamberMaster//Event Calendar 2.0//EN
METHOD:PUBLISH
X-PUBLISHED-TTL:P3D
REFRESH-INTERVAL:P3D
CALSCALE:GREGORIAN
BEGIN:VEVENT
DTSTART:20210507T140000Z
DTEND:20210507T150000Z
X-MICROSOFT-CDO-ALLDAYEVENT:FALSE
SUMMARY:Enhance Aberdeen Committee
DESCRIPTION:Enhance Aberdeen Committee
X-ALT-DESC;FMTTYPE=text/html:Enhance Aberdeen Committee
LOCATION:Market on the Plaza\, 506 S Main St
UID:e.3086.6839
SEQUENCE:3
DTSTAMP:20260422T185029Z
URL:https://business.aberdeen-chamber.com/events/details/enhance-aberdeen-committee-05-07-2021-6839
END:VEVENT

END:VCALENDAR
