BEGIN:VCALENDAR
VERSION:2.0
PRODID:-//ChamberMaster//Event Calendar 2.0//EN
METHOD:PUBLISH
X-PUBLISHED-TTL:P3D
REFRESH-INTERVAL:P3D
CALSCALE:GREGORIAN
BEGIN:VEVENT
DTSTART:20250925T220000Z
DTEND:20250926T000000Z
X-MICROSOFT-CDO-ALLDAYEVENT:FALSE
SUMMARY:Community Block Party 2025
DESCRIPTION:Aberdeen will welcome back its college students and new Aberdeen residents at the Community Block Party. The event\, which is free and open to all college students\, will also include drawings for gift cards and prizes. Participants can learn more about what Aberdeen has to offer\, from restaurants\, entertainment\, products and services\, churches and so much more!\n\nCost for businesses to participate is only $50.00 plus a $10-$15 giveaway. Businesses are provided with one 10' x 10" space on the Malchow Plaza or on Main Street and are asked to bring their own table\, chairs\, tents as well as approximately  200-300 giveaways.\n\nReserve your spot by registering here or by calling the Chamber at 225-2860.  Please let us know if you have any special requests.
X-ALT-DESC;FMTTYPE=text/html:<p><span style="font-size:16px\;"><span style="font-family:arial\;">Aberdeen will welcome back its college students and new Aberdeen residents at the Community Block Party.&nbsp\;The event\, which is free and open to all college students\, will also include drawings for gift cards and prizes. Participants&nbsp\;can learn more about what Aberdeen has to offer\, from restaurants\, entertainment\, products and services\, churches and so much more!</span></span></p>\n\n<p><span style="font-size:16px\;"><span style="font-family:arial\;">Cost for businesses to participate is only $50.00 plus&nbsp\;a $10-$15 giveaway. Businesses are provided with one&nbsp\;10&#39\; x 10&quot\; space on the Malchow Plaza&nbsp\;or on Main Street and are asked to bring their own table\, chairs\, tents as well as approximately&nbsp\; 200-300&nbsp\;giveaways.</span></span></p>\n\n<p><span style="font-size:16px\;"><span style="font-family:arial\;">Reserve your spot by registering here or by calling the Chamber at 225-2860.&nbsp\; Please let us know if you have any special requests.</span></span></p>\n
LOCATION:Malchow Plaza and Downtown Aberdeen
UID:e.3086.9331
SEQUENCE:3
DTSTAMP:20260419T133954Z
URL:https://business.aberdeen-chamber.com/events/details/community-block-party-2025-9331
END:VEVENT

END:VCALENDAR
