BEGIN:VCALENDAR
VERSION:2.0
PRODID:-//ChamberMaster//Event Calendar 2.0//EN
METHOD:PUBLISH
X-PUBLISHED-TTL:P3D
REFRESH-INTERVAL:P3D
CALSCALE:GREGORIAN
BEGIN:VEVENT
DTSTART:20240412T170000Z
DTEND:20240412T180000Z
X-MICROSOFT-CDO-ALLDAYEVENT:FALSE
SUMMARY:Community Affairs Luncheon
DESCRIPTION:David Owen\, with the South Dakota Chamber of Commerce and Industry\, will recap South Dakota's 2024 Legislative Session.
X-ALT-DESC;FMTTYPE=text/html:<span style="font-size:16px\;"><span style="font-family:tahoma\;">David Owen\, with the South Dakota Chamber of Commerce and Industry\, will recap South Dakota&#39\;s 2024 Legislative Session.</span></span>
LOCATION:Best Western Ramkota Hotel & Convention Center
UID:e.3086.8954
SEQUENCE:3
DTSTAMP:20260422T200122Z
URL:https://business.aberdeen-chamber.com/events/details/community-affairs-luncheon-8954
END:VEVENT

END:VCALENDAR
