BEGIN:VCALENDAR
VERSION:2.0
PRODID:-//ChamberMaster//Event Calendar 2.0//EN
METHOD:PUBLISH
X-PUBLISHED-TTL:P3D
REFRESH-INTERVAL:P3D
CALSCALE:GREGORIAN
BEGIN:VEVENT
DTSTART:20210401T170000Z
DTEND:20210401T170000Z
X-MICROSOFT-CDO-ALLDAYEVENT:FALSE
SUMMARY:Community Affairs Luncheon
DESCRIPTION:Join us for a wrap-up of the 2021 legislative session by David Owen\, SD Chamber and Julie Johnson. Cost to attend the luncheon is $15 for Chamber members\, and $20 for non-Chamber members. \n\n\n\nThe health of all our attendees is a top priority for us! To keep everyone safe and healthy\, we ask everyone to wear a mask walking in and out of the event. Masks can be removed at your table so you may enjoy your meal. If you would like a mask but did not bring one\, there will be masks available at the registration table. Tables will also be set with 4 people per table. Thank you for being considerate of these requests!
X-ALT-DESC;FMTTYPE=text/html:<span style="font-size:12px\;"><span style="font-family:tahoma\;"><span style="white-space: pre-wrap\;">Join us for a wrap-up of the 2021 legislative session by David Owen\, SD Chamber and Julie Johnson. Cost to attend the luncheon is $15 for Chamber members\, and $20 for non-Chamber members. </span><br />\n<br style="color: rgb(29\, 33\, 41)\; font-family: Helvetica\, Arial\, sans-serif\; font-size: 14px\; white-space: pre-wrap\;" />\n<span style="border: 1pt none windowtext\; padding: 0in\;">The health of all our attendees is a top priority for us!&nbsp\;To keep everyone safe and healthy\, we ask everyone to wear a mask walking in and out of the event. Masks can be removed at your table so you may enjoy your meal. If you would like a mask but did not bring one\, there will be&nbsp\;masks available at the registration table. Tables will also be set with 4 people per table. Thank you for being considerate of these requests!</span></span></span><br />\n<br />\n<br />\n&nbsp\;
LOCATION:Best Western Ramkota
UID:e.3086.6896
SEQUENCE:3
DTSTAMP:20260421T075232Z
URL:https://business.aberdeen-chamber.com/events/details/community-affairs-luncheon-6896
END:VEVENT

END:VCALENDAR
