BEGIN:VCALENDAR
VERSION:2.0
PRODID:-//ChamberMaster//Event Calendar 2.0//EN
METHOD:PUBLISH
X-PUBLISHED-TTL:P3D
REFRESH-INTERVAL:P3D
CALSCALE:GREGORIAN
BEGIN:VEVENT
DTSTART:20210304T180000Z
DTEND:20210304T190000Z
X-MICROSOFT-CDO-ALLDAYEVENT:FALSE
SUMMARY:Community Affairs Luncheon
DESCRIPTION:Join us for the first Community Affairs Luncheon of the year. The luncheon will feature Aberdeen Mayor Travis Schaunaman as the speaker. Mayor Schaunaman will give a State of the City address.\n\nCost to attend the luncheon is $15 for Chamber members\, and $20 for non-Chamber members. \n\n \n\nThe health of all our attendees is a top priority for us! To keep everyone safe and healthy\, we ask everyone to wear a mask walking in and out of the event. Masks can be removed at your table so you may enjoy your meal. If you would like a mask but did not bring one\, there will be masks available at the registration table. Tables will also be set with 4 people per table. Thank you for being considerate of these requests!
X-ALT-DESC;FMTTYPE=text/html:<span style="color:#002060\;"><span style="font-family:univers light\,sans-serif\;"><span style="font-size:12.0pt\;">Join us for the first Community Affairs Luncheon of the year. The luncheon will feature Aberdeen Mayor Travis Schaunaman as the speaker. Mayor Schaunaman will give a State of the City address.</span></span></span><br />\n<span style="color:#002060\;"><span style="font-family:univers light\,sans-serif\;"><span style="font-size:12.0pt\;">Cost to attend the luncheon is $15 for Chamber members\, and $20 for non-Chamber members.&nbsp\;</span></span></span><br />\n&nbsp\;<br />\n<span style="border:none windowtext 1.0pt\;padding:0in\;"><span style="color:#002060\;"><span style="font-family:univers light\,sans-serif\;"><span style="font-size:12.0pt\;">The health of all our attendees is a top priority for us!&nbsp\;To keep everyone safe and healthy\, we ask everyone to wear a mask walking in and out of the event. Masks can be removed at your table so you may enjoy your meal. If you would like a mask but did not bring one\, there will be&nbsp\;masks available at the registration table. Tables will also be set with 4 people per table. Thank you for being considerate of these requests!</span></span></span></span><br />\n&nbsp\;
LOCATION:Best Western Ramkota
UID:e.3086.6887
SEQUENCE:3
DTSTAMP:20260421T092132Z
URL:https://business.aberdeen-chamber.com/events/details/community-affairs-luncheon-6887
END:VEVENT

END:VCALENDAR
