BEGIN:VCALENDAR
VERSION:2.0
PRODID:-//ChamberMaster//Event Calendar 2.0//EN
METHOD:PUBLISH
X-PUBLISHED-TTL:P3D
REFRESH-INTERVAL:P3D
CALSCALE:GREGORIAN
BEGIN:VEVENT
DTSTART:20250224T173000Z
DTEND:20250224T190000Z
X-MICROSOFT-CDO-ALLDAYEVENT:FALSE
SUMMARY:City Water Projects Meeting
DESCRIPTION:Join City of Aberdeen personnel and the ADC Board of Directors to discuss water-related projects that the City of Aberdeen is working on. Lunch will be provided by the ADC.
X-ALT-DESC;FMTTYPE=text/html:Join City of Aberdeen personnel and the ADC Board of Directors to discuss water-related projects that the City of Aberdeen is working on. Lunch will be provided by the ADC.
LOCATION:ARCC (Aberdeen Recreation & Cultural Center) 225 3rd Ave SE 2nd Floor Library
UID:e.3086.9359
SEQUENCE:3
DTSTAMP:20260419T233954Z
URL:https://business.aberdeen-chamber.com/events/details/city-water-projects-meeting-9359
END:VEVENT

END:VCALENDAR
