BEGIN:VCALENDAR
VERSION:2.0
PRODID:-//ChamberMaster//Event Calendar 2.0//EN
METHOD:PUBLISH
X-PUBLISHED-TTL:P3D
REFRESH-INTERVAL:P3D
CALSCALE:GREGORIAN
BEGIN:VEVENT
DTSTART:20241024T133000Z
DTEND:20241024T150000Z
X-MICROSOFT-CDO-ALLDAYEVENT:FALSE
SUMMARY:Chamber Connections
DESCRIPTION:Chamber Connections are held every Thursday morning from 8:30 am - 10:00 am from January - May and September - December at the K.O. Lee Aberdeen Public Library. Join us to hear great speakers and network with other business people in the community. If there are topics you are interested in hearing about or if you would like to present a business or community topic\, please email the Chamber at info@aberdeen-chamber.com or call (605) 225-2860.
X-ALT-DESC;FMTTYPE=text/html:<h4 style="box-sizing: inherit\; margin: 0px 0px 0.5rem\; padding: 0px\; font-family: neue-haas-unica\, sans-serif\; color: rgb(10\, 10\, 10)\; text-rendering: optimizelegibility\; font-size: 22px\; line-height: 1.4\; background-color: rgb(254\, 254\, 254)\;"><span style="font-size:14px\;"><span style="font-family:arial\;">Chamber Connections are held every Thursday morning from 8:30 am - 10:00 am from January - May and September - December at the K.O. Lee Aberdeen Public Library. Join us to hear great&nbsp\;speakers and network with other business people in the community. If there are topics you are interested in hearing about or if you would like to present a business or community topic\, please email the Chamber at info@aberdeen-chamber.com or call (605) 225-2860.&nbsp\;</span></span></h4>\n
LOCATION:K.O. Lee Aberdeen Public Library or Zoom: https://us06web.zoom.us/j/87037796800
UID:e.3086.8511
SEQUENCE:3
DTSTAMP:20260420T065816Z
URL:https://business.aberdeen-chamber.com/events/details/cart-10-24-2024-8511
END:VEVENT

END:VCALENDAR
