BEGIN:VCALENDAR
VERSION:2.0
PRODID:-//ChamberMaster//Event Calendar 2.0//EN
METHOD:PUBLISH
X-PUBLISHED-TTL:P3D
REFRESH-INTERVAL:P3D
CALSCALE:GREGORIAN
BEGIN:VEVENT
DTSTART:20250807T213000Z
DTEND:20250807T233000Z
X-MICROSOFT-CDO-ALLDAYEVENT:FALSE
SUMMARY:Business After Hours Mixer
DESCRIPTION:Looking to take your networking to the next level? Join us for Business After Hours with the Aberdeen Area Chamber of Commerce\n\n \nRegister on this page\, by calling the Chamber at (605) 225-2860\, or emailing info@aberdeen-chamber.com.
X-ALT-DESC;FMTTYPE=text/html:<span style="font-size:14px\;"><span style="font-family:verdana\;">Looking to take your networking to the next level? Join us for Business After Hours with the Aberdeen Area Chamber of Commerce</span></span><br />\n&nbsp\;\n<div style="color: rgb(51\, 51\, 51)\; font-family: sans-serif\, Arial\, Verdana\, &quot\;Trebuchet MS&quot\;\; font-size: 13px\;"><span style="font-size:14px\;"><span style="font-family:verdana\;"><span style="background: white\;">Register on this page\, by calling the Chamber at (605) 225-2860\, or emailing info@aberdeen-chamber.com.</span></span></span></div>\n
LOCATION:Twin City Fan Companies
UID:e.3086.9329
SEQUENCE:3
DTSTAMP:20260419T161611Z
URL:https://business.aberdeen-chamber.com/events/details/business-after-hours-mixer-9329
END:VEVENT

END:VCALENDAR
