BEGIN:VCALENDAR
VERSION:2.0
PRODID:-//ChamberMaster//Event Calendar 2.0//EN
METHOD:PUBLISH
X-PUBLISHED-TTL:P3D
REFRESH-INTERVAL:P3D
CALSCALE:GREGORIAN
BEGIN:VEVENT
DTSTART:20241114T231500Z
DTEND:20241115T010000Z
X-MICROSOFT-CDO-ALLDAYEVENT:FALSE
SUMMARY:Business After Hours
DESCRIPTION:Looking to take your networking to the next level? Join us for Business After Hours with the Aberdeen Area Chamber of Commerce on Thursday\, November 14th at 5:15 PM at Montgomery's!\n\n\n\nDive into an evening filled with energy\, as you connect with like-minded professionals\, share fresh ideas\, and build valuable relationships all while savoring delicious catering from LaRue's!\n\n\n\nThis is your chance to elevate your business in a fun\, relaxed atmosphere. Plus\, don't miss your shot at our final membership drawing of the year an incredible $1100! Just remember\, you must be there to win!\n\n\n\nWe will also be celebrating Member Anniversaries with Glacial Lakes Energy and Dacotah Prairie Museum!\n\n\n\nLet's make connections that count!
X-ALT-DESC;FMTTYPE=text/html:<span style="font-size:14px\;"><span style="font-family:verdana\;">Looking to take your networking to the next level? Join us for Business After Hours with the Aberdeen Area Chamber of Commerce on Thursday\, November 14th at 5:15 PM at Montgomery&rsquo\;s!<br />\n<br />\nDive into an evening filled with energy\, as you connect with like-minded professionals\, share fresh ideas\, and build valuable relationships&mdash\;all while savoring delicious catering from <strong>LaRue&rsquo\;s!</strong><br />\n<br />\nThis is your chance to elevate your business in a fun\, relaxed atmosphere. Plus\, don&rsquo\;t miss your shot at our final membership drawing of the year&mdash\;an incredible <strong>$1100! </strong>Just remember\, you must be there to win!<br />\n<br />\nWe will also be celebrating Member Anniversaries with Glacial Lakes Energy and Dacotah Prairie Museum!<br />\n<br />\nLet&rsquo\;s make connections that count!</span></span><br />\n&nbsp\;
LOCATION:Montgomery's
UID:e.3086.8986
SEQUENCE:3
DTSTAMP:20260420T053257Z
URL:https://business.aberdeen-chamber.com/events/details/business-after-hours-8986
END:VEVENT

END:VCALENDAR
