BEGIN:VCALENDAR
VERSION:2.0
PRODID:-//ChamberMaster//Event Calendar 2.0//EN
METHOD:PUBLISH
X-PUBLISHED-TTL:P3D
REFRESH-INTERVAL:P3D
CALSCALE:GREGORIAN
BEGIN:VEVENT
DTSTART:20240711T221500Z
DTEND:20240712T000000Z
X-MICROSOFT-CDO-ALLDAYEVENT:FALSE
SUMMARY:Business After Hours
DESCRIPTION:You don't want to miss this mixer held in the newly renovated Budget Furniture. We're gonna play a "Design your Dream" game and will be drawing for $700 with the Chamber Membership Drawing. Plus enjoy fantastic appetizers catered by Three22 Kitchen + Cocktails and beverages by Ken's Super Fair Foods.\n\n \n\nThe Aberdeen Area Chamber of Commerce sponsors a Business After Hours networking mixer each month from 5:15 to 7:00 pm at various business locations. The event is held to encourage networking among the city's business leadership and employees and is an ideal way to establish contacts and build relationships in the community. Most of all\, it's just a fun time!
X-ALT-DESC;FMTTYPE=text/html:<p style="margin: 0px\; padding: 0px\; color: rgb(45\, 50\, 53)\; font-family: Corbel\, Geneva\, Verdana\, Arial\, sans-serif\; font-size: 18px\; white-space-collapse: preserve\; background-color: rgb(255\, 255\, 255)\;"><span style="font-size: 14px\; color: rgb(0\, 0\, 0)\; font-family: &quot\;Open Sans&quot\;\, sans-serif\;">You don&#39\;t want to miss this mixer held in the newly renovated </span><span style="color:#660000\;"><span style="font-size:16px\;"><span style="font-family: &quot\;Open Sans&quot\;\, sans-serif\; font-weight: bold\;">B</span></span><span style="font-size: 14px\; font-family: &quot\;Open Sans&quot\;\, sans-serif\; font-weight: bold\;"><span style="font-size:16px\;">udget Furniture</span>.</span></span><span style="font-size: 14px\; color: rgb(0\, 0\, 0)\; font-family: &quot\;Open Sans&quot\;\, sans-serif\; font-weight: bold\;"> </span><span style="font-size: 14px\; color: rgb(0\, 0\, 0)\; font-family: &quot\;Open Sans&quot\;\, sans-serif\;">We&#39\;re gonna play a </span><span style="color:#000000\;"><span style="font-size: 14px\; font-family: &quot\;Open Sans&quot\;\, sans-serif\;">&quot\;Design your Dream&quot\; game and will be drawing for $700 with the Chamber Membership Drawing. Plus enjoy fantastic appetizers catered by </span><span style="font-size: 14px\; font-family: &quot\;Open Sans&quot\;\, sans-serif\; font-weight: bold\;">Three22 Kitchen + Cocktails</span><span style="font-size: 14px\; font-family: &quot\;Open Sans&quot\;\, sans-serif\;"> </span><span style="font-size: 14px\; font-family: &quot\;Open Sans&quot\;\, sans-serif\;">and beverages by </span><span style="font-size: 14px\; font-family: &quot\;Open Sans&quot\;\, sans-serif\; font-weight: bold\;">Ken&#39\;s Super Fair Foods.</span></span></p>\n\n<p style="margin: 0px\; padding: 0px\; color: rgb(45\, 50\, 53)\; font-family: Corbel\, Geneva\, Verdana\, Arial\, sans-serif\; font-size: 18px\; white-space-collapse: preserve\; background-color: rgb(255\, 255\, 255)\;">&nbsp\;</p>\n\n<p style="margin: 0px\; padding: 0px\; color: rgb(45\, 50\, 53)\; font-family: Corbel\, Geneva\, Verdana\, Arial\, sans-serif\; font-size: 18px\; white-space-collapse: preserve\; background-color: rgb(255\, 255\, 255)\;"><span style="color:#000000\;"><span style="font-size: 14px\; font-family: &quot\;Open Sans&quot\;\, sans-serif\;">The&nbsp\;Aberdeen Area Chamber of Commerce sponsors a Business After Hours networking mixer each month from 5:15 to 7:00 pm at various business locations. The event is held to encourage networking among the city&#39\;s business leadership and employees and is an ideal way to establish contacts and build relationships in the community. Most of all\, it&#39\;s just a fun time!</span></span></p>\n
LOCATION:Budget Furniture
UID:e.3086.8982
SEQUENCE:3
DTSTAMP:20260420T111007Z
URL:https://business.aberdeen-chamber.com/events/details/business-after-hours-8982
END:VEVENT

END:VCALENDAR
