BEGIN:VCALENDAR
VERSION:2.0
PRODID:-//ChamberMaster//Event Calendar 2.0//EN
METHOD:PUBLISH
X-PUBLISHED-TTL:P3D
REFRESH-INTERVAL:P3D
CALSCALE:GREGORIAN
BEGIN:VEVENT
DTSTART:20250426T200000Z
DTEND:20250427T030000Z
X-MICROSOFT-CDO-ALLDAYEVENT:FALSE
SUMMARY:Beers for Baird Park Pub Crawl
DESCRIPTION:SPECIALS (With Wrist Band)\n\nCircus: $3 Domestic Taps and $4 Imports\n\nCity Lights: Baird Park inspired drink specials (Snow on the Hill and Slippery Slope)\, French Dip meal special\, and Firecracker Appetizer \n\nLagers: $3 Domestic Taps and $5.50 Purple Rain Doubles\n\nMazatlan: $2 off draft beers\n\nOne Legged Pheasant: $1 off Ring Neck Red Ale\n\nR & A: 50 cents off\n\nZoo Bar (Opens at 5PM): Purple Rain Doubles for $5.50 and $3 Domestic Taps\, $.39 Wings (5-9 PM)\n\n\n\nBINGO CARD CHALLENGE!\n\nVisit each participating bar\, make a purchase\, and mark off your square. Get a blackout and drop your completed card off at The Zoo Bar by 10PM to be entered in the $500 drawing! Winner announced live on Facebook\, Monday\, April 28th.\n\n\n\n***\n\n \n\nAberdeen   the Beers for Baird Park Pub Crawl is returning on Saturday\, April 26th from 3:00   10:00 PM\, and it's going to be an epic day downtown you won't want to miss!  \n\nHosted by the awesome 2024 Leadership Aberdeen Class alumni\, this event is your ticket to an unforgettable time with friends\, cold drinks\, killer deals\, and a whole lot of laughs   all for a good cause!\n\n \n\n   Just $15 in advance or $20 at the door gets you:\n\n\n	\n	Drink specials at participating bars  \n	\n	\n	A full day of bar-hopping fun with your crew\n	\n	\n	PLUS a chance to win $500 cold hard cash in our Bingo Card Challenge!  \n	\n\n\n  Sign up now! Click the green REGISTER above and lock in that sweet early bird price. On the day of the event\, swing by City Lights (316 S 2nd Street) anytime from 3:00   7:00 PM to check in and grab your wristband. Last-minute party people can still register at the door for $20.\n\n  And yep   we've got limo rides again! Thanks to Muzed Entertainment\, you can cruise from bar to bar in style (based on availability).\n\n \n\n  All proceeds go toward future improvements at Baird Park   think warming huts\, ski trails\, maybe even a curling rink! So you're not just partying   you're making a difference.\n\n \n\nMark your calendar\, gather your crew\, and let's raise a glass for Baird Park!
X-ALT-DESC;FMTTYPE=text/html:<p data-end="186" data-start="145"><u style="font-family: arial\; font-size: 20px\;"><strong>SPECIALS (With Wrist Band)</strong></u><br style="font-family: arial\; font-size: 20px\;" />\n<span style="font-family: arial\; font-size: 20px\;">Circus: $3 Domestic Taps and $4 Imports</span><br style="font-family: arial\; font-size: 20px\;" />\n<span style="font-family: arial\; font-size: 20px\;">City Lights: Baird Park inspired drink specials (Snow on the Hill and Slippery Slope)\, French Dip meal special\, and Firecracker Appetizer&nbsp\;</span><br style="font-family: arial\; font-size: 20px\;" />\n<span style="font-family: arial\; font-size: 20px\;">Lagers: $3 Domestic Taps and $5.50 Purple Rain Doubles</span><br style="font-family: arial\; font-size: 20px\;" />\n<span style="font-family: arial\; font-size: 20px\;">Mazatlan: $2 off draft beers</span><br style="font-family: arial\; font-size: 20px\;" />\n<span style="font-family: arial\; font-size: 20px\;">One Legged Pheasant: $1 off Ring Neck Red Ale</span><br style="font-family: arial\; font-size: 20px\;" />\n<span style="font-family: arial\; font-size: 20px\;">R &amp\; A: 50 cents off</span><br style="font-family: arial\; font-size: 20px\;" />\n<span style="font-family: arial\; font-size: 20px\;">Zoo Bar (Opens at 5PM): Purple Rain Doubles for $5.50 and $3 Domestic Taps\, $.39 Wings (5-9 PM)</span><br />\n<br />\n<strong data-end="1336" data-start="1296" style="font-family: arial\; font-size: 20px\;">BINGO CARD CHALLENGE!</strong><br data-end="1339" data-start="1336" style="font-family: arial\; font-size: 20px\;" />\n<span style="font-family: arial\; font-size: 20px\;">Visit each participating bar\, make a purchase\, and mark off your square. Get a blackout and drop your completed card off at&nbsp\;</span><strong data-end="1486" data-start="1463" style="font-family: arial\; font-size: 20px\;">The Zoo Bar by 10PM</strong><span style="font-family: arial\; font-size: 20px\;">&nbsp\;to be entered in the&nbsp\;</span><strong data-end="1524" data-start="1508" style="font-family: arial\; font-size: 20px\;">$500 drawing</strong><span style="font-family: arial\; font-size: 20px\;">! Winner announced live on Facebook\,&nbsp\;</span><strong data-end="1583" data-start="1561" style="font-family: arial\; font-size: 20px\;">Monday\, April 28th</strong><span style="font-family: arial\; font-size: 20px\;">.</span><br />\n<br />\n***<br />\n&nbsp\;</p>\n\n<div data-end="186" data-start="145"><span style="font-size:20px\;"><span style="font-family:arial\;">Aberdeen &mdash\; the <strong data-end="248" data-start="214">Beers for Baird Park Pub Crawl</strong> is returning on <strong data-end="310" data-start="265">Saturday\, April 26th from 3:00 &ndash\; 10:00 PM</strong>\, and it&#39\;s going to be an epic day downtown you <em data-end="365" data-start="358">won&rsquo\;t</em> want to miss! &#127867\;</span></span></div>\n\n<div data-end="586" data-start="384"><span style="font-size:20px\;"><span style="font-family:arial\;">Hosted by the awesome 2024 Leadership Aberdeen Class alumni\, this event is your ticket to an unforgettable time with friends\, cold drinks\, killer deals\, and a whole lot of laughs &mdash\; all for a good cause!</span></span><br />\n&nbsp\;</div>\n\n<div data-end="644" data-start="588"><span style="font-size:20px\;"><span style="font-family:arial\;">&#127903\;&#65039\; <strong data-end="634" data-start="592">Just $15 in advance or $20 at the door</strong> gets you:</span></span></div>\n\n<ul data-end="855" data-start="645">\n	<li data-end="688" data-start="645">\n	<div data-end="688" data-start="647"><span style="font-size:20px\;"><span style="font-family:arial\;">Drink specials at participating bars &#127865\;</span></span></div>\n	</li>\n	<li data-end="721" data-start="689">\n	<div data-end="721" data-start="691"><span style="font-size:20px\;"><span style="font-family:arial\;">A full day of bar-hopping fun with your crew</span></span></div>\n	</li>\n	<li data-end="855" data-start="771">\n	<div data-end="855" data-start="773"><span style="font-size:20px\;"><span style="font-family:arial\;">PLUS a chance to win <strong data-end="817" data-start="794">$500 cold hard cash</strong> in our <strong data-end="849" data-start="825">Bingo Card Challenge</strong>! &#128184\;</span></span></div>\n	</li>\n</ul>\n\n<div data-end="1153" data-start="857"><span style="font-size:20px\;"><span style="font-family:arial\;">&#128073\; <strong data-end="876" data-start="860">Sign up now!</strong> Click the green REGISTER above&nbsp\;and lock in that sweet early bird price. On the day of the event\, swing by <strong data-end="1023" data-start="989">City Lights (316 S 2nd Street)</strong> anytime from 3:00 &ndash\; 7:00 PM to check in and grab your wristband. Last-minute party people can still register at the door for $20.</span></span></div>\n\n<div data-end="1291" data-start="1155"><span style="font-size:20px\;"><span style="font-family:arial\;">&#128656\; And yep &mdash\; we&rsquo\;ve got limo rides again! Thanks to Muzed Entertainment\, you can cruise from bar to bar in style (based on availability).</span></span><br />\n&nbsp\;</div>\n\n<div data-end="1768" data-start="1586"><span style="font-size:20px\;"><span style="font-family:arial\;">&#128154\; All proceeds go toward future improvements at <strong data-end="1649" data-start="1635">Baird Park</strong> &mdash\; think warming huts\, ski trails\, maybe even a curling rink! So you&rsquo\;re not just partying &mdash\; you&rsquo\;re making a difference.</span></span><br />\n&nbsp\;</div>\n\n<div data-end="1888" data-start="1770"><span style="font-size:20px\;"><span style="font-family:arial\;"><strong data-end="1851" data-start="1770">Mark your calendar\, gather your crew\, and let&rsquo\;s raise a glass for Baird Park!</strong> &#129346\;</span></span></div>\n
LOCATION:Downtown Aberdeen Pick up your wristband at City Lights\, 316 S 2nd St. from 3- 7 pm\, then stop at bars and restaurants for great specials and $500 giveaway!
UID:e.3086.9430
SEQUENCE:3
DTSTAMP:20260419T221039Z
URL:https://business.aberdeen-chamber.com/events/details/beers-for-baird-park-pub-crawl-9430
END:VEVENT

END:VCALENDAR
