BEGIN:VCALENDAR
VERSION:2.0
PRODID:-//ChamberMaster//Event Calendar 2.0//EN
METHOD:PUBLISH
X-PUBLISHED-TTL:P3D
REFRESH-INTERVAL:P3D
CALSCALE:GREGORIAN
BEGIN:VEVENT
DTSTART:20241107T220000Z
DTEND:20241107T223000Z
X-MICROSOFT-CDO-ALLDAYEVENT:FALSE
SUMMARY:Ambassadors Ribbon Cutting - The Experience Real Estate
DESCRIPTION:The Experience Real Estate has moved into their new location at 105 3rd Ave SW.  They will be having an open house the day of the ribbon cutting and asked us to be part of it!
X-ALT-DESC;FMTTYPE=text/html:The Experience Real Estate has moved into their new location at 105 3rd Ave SW.&nbsp\;&nbsp\;They will be having an open house the day of the ribbon cutting and asked us to be part of it!&nbsp\;
LOCATION:
UID:e.3086.9249
SEQUENCE:3
DTSTAMP:20260420T053716Z
URL:https://business.aberdeen-chamber.com/events/details/ambassadors-ribbon-cutting-the-experience-real-estate-9249
END:VEVENT

END:VCALENDAR
