BEGIN:VCALENDAR
VERSION:2.0
PRODID:-//ChamberMaster//Event Calendar 2.0//EN
METHOD:PUBLISH
X-PUBLISHED-TTL:P3D
REFRESH-INTERVAL:P3D
CALSCALE:GREGORIAN
BEGIN:VEVENT
DTSTART:20250327T163000Z
DTEND:20250327T170000Z
X-MICROSOFT-CDO-ALLDAYEVENT:FALSE
SUMMARY:Ambassador Ribbon Cutting-Sanford Equip
DESCRIPTION:
X-ALT-DESC;FMTTYPE=text/html:
LOCATION:Standard Ribbon Cutting for Sanford Equip 3001 6th Ave SE\, Ste 5 Arrival- 11:30am Ribbing Cutting- 11:45am Tour- 12:00pm
UID:e.3086.9431
SEQUENCE:3
DTSTAMP:20260419T222904Z
URL:https://business.aberdeen-chamber.com/events/details/ambassador-ribbon-cutting-sanford-equip-9431
END:VEVENT

END:VCALENDAR
