BEGIN:VCALENDAR
VERSION:2.0
PRODID:-//ChamberMaster//Event Calendar 2.0//EN
METHOD:PUBLISH
X-PUBLISHED-TTL:P3D
REFRESH-INTERVAL:P3D
CALSCALE:GREGORIAN
BEGIN:VEVENT
DTSTART:20250717T180000Z
DTEND:20250717T183000Z
X-MICROSOFT-CDO-ALLDAYEVENT:FALSE
SUMMARY:Ambassador Ribbon Cutting- ReadiTech
DESCRIPTION:
X-ALT-DESC;FMTTYPE=text/html:
LOCATION:Come celebrate the relocation of ReadiTech! 1923 6th Ave SE Suite 106
UID:e.3086.9443
SEQUENCE:3
DTSTAMP:20260419T163718Z
URL:https://business.aberdeen-chamber.com/events/details/ambassador-ribbon-cutting-readitech-9443
END:VEVENT

END:VCALENDAR
