BEGIN:VCALENDAR
VERSION:2.0
PRODID:-//ChamberMaster//Event Calendar 2.0//EN
METHOD:PUBLISH
X-PUBLISHED-TTL:P3D
REFRESH-INTERVAL:P3D
CALSCALE:GREGORIAN
BEGIN:VEVENT
DTSTART:20240809T160000Z
DTEND:20240809T163000Z
X-MICROSOFT-CDO-ALLDAYEVENT:FALSE
SUMMARY:Ambassador Ribbon Cutting - Les Schwab
DESCRIPTION:Les Schwab Tire Center\n\n704 S Melgaard Rd
X-ALT-DESC;FMTTYPE=text/html:<span style="font-family: Roboto\, sans-serif\; font-size: 16px\; background-color: rgb(240\, 240\, 240)\;">Les Schwab Tire Center</span><br />\n704 S Melgaard Rd
LOCATION:
UID:e.3086.9024
SEQUENCE:3
DTSTAMP:20260420T083211Z
URL:https://business.aberdeen-chamber.com/events/details/ambassador-ribbon-cutting-les-schwab-9024
END:VEVENT

END:VCALENDAR
