BEGIN:VCALENDAR
VERSION:2.0
PRODID:-//ChamberMaster//Event Calendar 2.0//EN
METHOD:PUBLISH
X-PUBLISHED-TTL:P3D
REFRESH-INTERVAL:P3D
CALSCALE:GREGORIAN
BEGIN:VEVENT
DTSTART:20250513T230000Z
DTEND:20250513T233000Z
X-MICROSOFT-CDO-ALLDAYEVENT:FALSE
SUMMARY:Ambassador Ribbon Cutting- H.U.G.S.
DESCRIPTION:A Resource for Survivors of Suicide Loss\n\n\n\nH.U.G.S. offers compassionate peer support for suicide loss survivors in the Aberdeen area\, providing a safe space to share\, heal\, and connect with others who understand. Our free\, drop-in meetings are led by volunteers who have also experienced loss.
X-ALT-DESC;FMTTYPE=text/html:<div class="mceText" data-animation-status="complete" style="box-sizing: border-box\; word-break: break-word\; --headingFontFamily: 'Recursive'\, sans-serif\; --headingTextColor: #262626\; --linkTextColor: #262626\; --headingFontWeight: 900\; --baseFontSize: 21px\; --h1FontScale: calc(1.333*1.333*1.333*1.333)\; --h2FontScale: calc(1.333*1.333*1.333)\; --h3FontScale: calc(1.333*1.333)\; --h4FontScale: 1.333\; --lineHeight: 1.5\; --fontSize: var(--mceText-fontSize)\; line-height: 1.5\; width: 488.081px\; --paragraphFontFamily: 'Recursive'\, sans-serif\; --paragraphTextColor: #262626\; font-size: 21px\; font-family: Recursive\, sans-serif\; color: rgb(38\, 38\, 38)\; animation: auto ease 0s 1 normal none running none\; transform: none\; opacity: 1\; background-color: rgb(234\, 234\, 234)\;">\n<p style="box-sizing: border-box\; margin: 0px\; padding: 0px\; font-weight: 900\; font-size: 66.304px\; line-height: 1.05\;"><span style="font-size:12px\;"><span style="font-family:arial\;"><kbd><span style="box-sizing: border-box\; color: rgb(51\, 155\, 219)\;">A Resource for Survivors of Suicide Loss</span></kbd></span></span></p>\n</div>\n\n<div class="mceText" data-animation-status="complete" style="box-sizing: border-box\; word-break: break-word\; --headingFontFamily: 'Recursive'\, sans-serif\; --headingTextColor: #262626\; --linkTextColor: #262626\; --headingFontWeight: 900\; --baseFontSize: 21px\; --h1FontScale: calc(1.333*1.333*1.333*1.333)\; --h2FontScale: calc(1.333*1.333*1.333)\; --h3FontScale: calc(1.333*1.333)\; --h4FontScale: 1.333\; --lineHeight: 1.5\; --fontSize: var(--mceText-fontSize)\; line-height: 1.5\; width: 488.081px\; --paragraphFontFamily: 'Recursive'\, sans-serif\; --paragraphTextColor: #262626\; font-size: 21px\; font-family: Recursive\, sans-serif\; color: rgb(38\, 38\, 38)\; animation: auto ease 0s 1 normal none running none\; transform: none\; opacity: 1\; background-color: rgb(234\, 234\, 234)\;">\n<p style="box-sizing: border-box\; margin: 0px\; padding: 0px\; word-break: initial\;"><span style="font-size:12px\;"><span style="font-family:arial\;"><kbd>H.U.G.S. offers compassionate peer support for suicide loss survivors in the Aberdeen area\, providing a safe space to share\, heal\, and connect with others who understand. Our free\, drop-in meetings are led by volunteers who have also experienced loss.</kbd></span></span></p>\n</div>\n
LOCATION:Ribbon Cutting for H.U.G.S. Conklin Clinics 2120 8th Ave NE
UID:e.3086.9436
SEQUENCE:3
DTSTAMP:20260421T233651Z
URL:https://business.aberdeen-chamber.com/events/details/ambassador-ribbon-cutting-h-u-g-s-9436
END:VEVENT

END:VCALENDAR
