BEGIN:VCALENDAR
VERSION:2.0
PRODID:-//ChamberMaster//Event Calendar 2.0//EN
METHOD:PUBLISH
X-PUBLISHED-TTL:P3D
REFRESH-INTERVAL:P3D
CALSCALE:GREGORIAN
BEGIN:VEVENT
DTSTART:20250613T180000Z
DTEND:20250613T190000Z
X-MICROSOFT-CDO-ALLDAYEVENT:FALSE
SUMMARY:Ambassador Ribbon Cutting- Expansion of Avera Behavioral Health
DESCRIPTION:
X-ALT-DESC;FMTTYPE=text/html:
LOCATION:305 S State St. Use Door 4/West Lobby entrance\, take elevators A/B to the Fourth Floor. 1-2pm: Blessing and Ribbon Cutting 2-4pm: Public Tours
UID:e.3086.9444
SEQUENCE:3
DTSTAMP:20260419T192214Z
URL:https://business.aberdeen-chamber.com/events/details/ambassador-ribbon-cutting-expansion-of-avera-behavioral-health-9444
END:VEVENT

END:VCALENDAR
