BEGIN:VCALENDAR
VERSION:2.0
PRODID:-//ChamberMaster//Event Calendar 2.0//EN
METHOD:PUBLISH
X-PUBLISHED-TTL:P3D
REFRESH-INTERVAL:P3D
CALSCALE:GREGORIAN
BEGIN:VEVENT
DTSTART:20250418T203000Z
DTEND:20250418T210000Z
X-MICROSOFT-CDO-ALLDAYEVENT:FALSE
SUMMARY:Ambassador Ribbon Cutting- Climate Control
DESCRIPTION:
X-ALT-DESC;FMTTYPE=text/html:
LOCATION:Ribbon Cutting for Climate Control 716 Production St
UID:e.3086.9360
SEQUENCE:3
DTSTAMP:20260419T221119Z
URL:https://business.aberdeen-chamber.com/events/details/ambassador-ribbon-cutting-climate-control-9360
END:VEVENT

END:VCALENDAR
