BEGIN:VCALENDAR
VERSION:2.0
PRODID:-//ChamberMaster//Event Calendar 2.0//EN
METHOD:PUBLISH
X-PUBLISHED-TTL:P3D
REFRESH-INTERVAL:P3D
CALSCALE:GREGORIAN
BEGIN:VEVENT
DTSTART:20250617T171500Z
DTEND:20250617T180000Z
X-MICROSOFT-CDO-ALLDAYEVENT:FALSE
SUMMARY:Ambassador Ribbon Cutting
DESCRIPTION:Dedication of new city park in HAPI subdivision.\n\n3304 North Harrison St. \n\n\n\nLunch from 11:30 - 1:30 (please use the link to RSVP)
X-ALT-DESC;FMTTYPE=text/html:Dedication of new city park in HAPI subdivision.<br />\n3304 North Harrison St.&nbsp\;<br />\n<br />\nLunch from 11:30 - 1:30 (please use the link to RSVP)
LOCATION:
UID:e.3086.9441
SEQUENCE:3
DTSTAMP:20260419T181101Z
URL:https://business.aberdeen-chamber.com/events/details/ambassador-ribbon-cutting-9441
END:VEVENT

END:VCALENDAR
