BEGIN:VCALENDAR
VERSION:2.0
PRODID:-//ChamberMaster//Event Calendar 2.0//EN
METHOD:PUBLISH
X-PUBLISHED-TTL:P3D
REFRESH-INTERVAL:P3D
CALSCALE:GREGORIAN
BEGIN:VEVENT
DTSTART:20180709T160000Z
DTEND:20180709T170000Z
X-MICROSOFT-CDO-ALLDAYEVENT:FALSE
SUMMARY:Ambassador Ground Breaking - Runnings
DESCRIPTION:Ground Breaking for Runnings
X-ALT-DESC;FMTTYPE=text/html:Ground Breaking for Runnings<br />\n&nbsp\;
LOCATION:1815 6th Ave SE
UID:e.3086.5250
SEQUENCE:3
DTSTAMP:20260423T080548Z
URL:https://business.aberdeen-chamber.com/events/details/ambassador-ground-breaking-runnings-5250
END:VEVENT

END:VCALENDAR
