BEGIN:VCALENDAR
VERSION:2.0
PRODID:-//ChamberMaster//Event Calendar 2.0//EN
METHOD:PUBLISH
X-PUBLISHED-TTL:P3D
REFRESH-INTERVAL:P3D
CALSCALE:GREGORIAN
BEGIN:VEVENT
DTSTART:20250415T180000Z
DTEND:20250415T183000Z
X-MICROSOFT-CDO-ALLDAYEVENT:FALSE
SUMMARY:Ambassador Ground Breaking - Pickle Ball Courts @ Manor Park
DESCRIPTION:Pickle Ball Court Ground Breaking\n\nManor Park  - 1115 N Jay St\n\nThe courts are on the east side of the park\, near the State St. and 11th Ave NE intersection
X-ALT-DESC;FMTTYPE=text/html:Pickle Ball Court Ground Breaking<br />\nManor Park&nbsp\; -&nbsp\;<span style="color: rgb(71\, 71\, 71)\; font-family: Roboto\, Arial\, sans-serif\; font-size: 14px\;">1115 N Jay St<br />\nThe courts are on the east side of the park\, near the State St. and 11th Ave NE intersection</span>
LOCATION:
UID:e.3086.9434
SEQUENCE:3
DTSTAMP:20260419T221217Z
URL:https://business.aberdeen-chamber.com/events/details/ambassador-ground-breaking-pickle-ball-courts-manor-park-9434
END:VEVENT

END:VCALENDAR
