BEGIN:VCALENDAR
VERSION:2.0
PRODID:-//ChamberMaster//Event Calendar 2.0//EN
METHOD:PUBLISH
X-PUBLISHED-TTL:P3D
REFRESH-INTERVAL:P3D
CALSCALE:GREGORIAN
BEGIN:VEVENT
DTSTART:20250722T143000Z
DTEND:20250722T200000Z
X-MICROSOFT-CDO-ALLDAYEVENT:FALSE
SUMMARY:Ambassador & Diplomat- Feed the Kids with Salvation Army
DESCRIPTION:
X-ALT-DESC;FMTTYPE=text/html:
LOCATION:Feed the Kids Volunteer Opportunities Lunch Packing: 9:45 AM 11:00 AM Park Delivery & Distribution: 11:30 AM 1:00 PM Food Sorting: 2:00 PM 3:30 PM Sign Up Here! https://www.signupgenius.com/go/9040944A9AF28A4FC1-57250410-feed#/
UID:e.3086.9445
SEQUENCE:3
DTSTAMP:20260419T164213Z
URL:https://business.aberdeen-chamber.com/events/details/ambassador-diplomat-feed-the-kids-with-salvation-army-9445
END:VEVENT

END:VCALENDAR
