BEGIN:VCALENDAR
VERSION:2.0
PRODID:-//ChamberMaster//Event Calendar 2.0//EN
METHOD:PUBLISH
X-PUBLISHED-TTL:P3D
REFRESH-INTERVAL:P3D
CALSCALE:GREGORIAN
BEGIN:VEVENT
DTSTART:20250610T170000Z
DTEND:20250610T200000Z
X-MICROSOFT-CDO-ALLDAYEVENT:FALSE
SUMMARY:Ambassador Committee Meeting
DESCRIPTION:The mission of the Committee is to promote a positive community image and serve as goodwill ambassadors at Chamber and community functions such as ribbon cuttings\, new business openings\, ground breakings\, business relocations and other networking events.
X-ALT-DESC;FMTTYPE=text/html:<span style="color: rgb(51\, 51\, 51)\; font-family: sans-serif\, Arial\, Verdana\, &quot\;Trebuchet MS&quot\;\; font-size: 13px\; background-color: rgb(255\, 255\, 255)\;">The mission of the Committee is to promote a positive community image and serve as goodwill ambassadors at Chamber and community functions such as ribbon cuttings\, new business openings\, ground breakings\, business relocations and other networking events.</span>
LOCATION:Chamber Conference Room Lunch will be Guadalajara: Street Tacos 1:30: Millstone (new owners) 2:00: Modern Day Healthcare (relocation) 2:30: TBD 3:00: UpTown Hair (new businesses)
UID:e.3086.8660
SEQUENCE:3
DTSTAMP:20260419T181343Z
URL:https://business.aberdeen-chamber.com/events/details/ambassador-committee-meeting-06-10-2025-8660
END:VEVENT

END:VCALENDAR
