BEGIN:VCALENDAR
VERSION:2.0
PRODID:-//ChamberMaster//Event Calendar 2.0//EN
METHOD:PUBLISH
X-PUBLISHED-TTL:P3D
REFRESH-INTERVAL:P3D
CALSCALE:GREGORIAN
BEGIN:VEVENT
DTSTART:20250408T170000Z
DTEND:20250408T200000Z
X-MICROSOFT-CDO-ALLDAYEVENT:FALSE
SUMMARY:Ambassador Committee Meeting
DESCRIPTION:The mission of the Committee is to promote a positive community image and serve as goodwill ambassadors at Chamber and community functions such as ribbon cuttings\, new business openings\, ground breakings\, business relocations and other networking events. (Committee selection done on a nomination basis). The Ambassadors also host the Community Champions Awards Luncheon.
X-ALT-DESC;FMTTYPE=text/html:<span style="color: rgb(51\, 51\, 51)\; font-family: sans-serif\, Arial\, Verdana\, &quot\;Trebuchet MS&quot\;\; font-size: 13px\; background-color: rgb(255\, 255\, 255)\;">The mission of the Committee is to promote a positive community image and serve as goodwill ambassadors at Chamber and community functions such as ribbon cuttings\, new business openings\, ground breakings\, business relocations and other networking events. (Committee selection done on a nomination basis). The Ambassadors also host the Community Champions Awards Luncheon.</span>
LOCATION:Chamber Conference Room Lunch will be from Pop's Bayou Mama: Please Indicate which option you want in the notes when registering! Daily Feature: Jambalaya\, Green Beans\, Cornbread and German Cake Triple Decker Club: Ham\, Turkey\, Cheese\, Bacon\, Lettuce\, Tomato\, Mayo Half Po'boy 6" comes dressed with Mayo\, Lettuce\, Tomato: Shrimp: Grilled or Hand Battered\, Lemon Pepper\, Cajun\, Blackened Ferdie: Hot Roast Beef\, Ham\, Swiss\, Pickles with Debris Gravy Will have sides available. 1:00 Beyond the Balloon Tara & Josh Heitman 126 S Main St 605-725-2200 1:30 Pop's Bayou Mama's Marc & Kim Runnels 120 N State St 605-415-8904 2:00 Northern Plains Psychological Associates Holly Reich 1409 6th Ave SE\, Ste 5 605-225-3622
UID:e.3086.8658
SEQUENCE:3
DTSTAMP:20260419T204413Z
URL:https://business.aberdeen-chamber.com/events/details/ambassador-committee-meeting-04-08-2025-8658
END:VEVENT

END:VCALENDAR
