BEGIN:VCALENDAR
VERSION:2.0
PRODID:-//ChamberMaster//Event Calendar 2.0//EN
METHOD:PUBLISH
X-PUBLISHED-TTL:P3D
REFRESH-INTERVAL:P3D
CALSCALE:GREGORIAN
BEGIN:VEVENT
DTSTART:20250311T170000Z
DTEND:20250311T193000Z
X-MICROSOFT-CDO-ALLDAYEVENT:FALSE
SUMMARY:Ambassador Committee Meeting
DESCRIPTION:The mission of the Committee is to promote a positive community image and serve as goodwill ambassadors at Chamber and community functions such as ribbon cuttings\, new business openings\, ground breakings\, business relocations and other networking events. (Committee selection done on a nomination basis).
X-ALT-DESC;FMTTYPE=text/html:<span style="color: rgb(51\, 51\, 51)\; font-family: sans-serif\, Arial\, Verdana\, &quot\;Trebuchet MS&quot\;\; font-size: 13px\; background-color: rgb(255\, 255\, 255)\;">The mission of the Committee is to promote a positive community image and serve as goodwill ambassadors at Chamber and community functions such as ribbon cuttings\, new business openings\, ground breakings\, business relocations and other networking events. (Committee selection done on a nomination basis).&nbsp\;</span>
LOCATION:Chamber Conference Room Lunch will be: Jersey Mike's Small Lunchbox Mini cold sub\, chips and a cookie! Please indicate which # you would like for a sandwich in the notes! https://www.jerseymikes.com/menu
UID:e.3086.8657
SEQUENCE:3
DTSTAMP:20260419T222625Z
URL:https://business.aberdeen-chamber.com/events/details/ambassador-committee-meeting-03-11-2025-8657
END:VEVENT

END:VCALENDAR
