BEGIN:VCALENDAR
VERSION:2.0
PRODID:-//ChamberMaster//Event Calendar 2.0//EN
METHOD:PUBLISH
X-PUBLISHED-TTL:P3D
REFRESH-INTERVAL:P3D
CALSCALE:GREGORIAN
BEGIN:VEVENT
DTSTART:20210415T170000Z
DTEND:20210415T180000Z
X-MICROSOFT-CDO-ALLDAYEVENT:FALSE
SUMMARY:Agribusiness Committee
DESCRIPTION:
X-ALT-DESC;FMTTYPE=text/html:
LOCATION:Chamber Board Room & Zoom
UID:e.3086.6798
SEQUENCE:3
DTSTAMP:20260421T075444Z
URL:https://business.aberdeen-chamber.com/events/details/agribusiness-committee-04-15-2021-6798
END:VEVENT

END:VCALENDAR
