BEGIN:VCALENDAR
VERSION:2.0
PRODID:-//ChamberMaster//Event Calendar 2.0//EN
METHOD:PUBLISH
X-PUBLISHED-TTL:P3D
REFRESH-INTERVAL:P3D
CALSCALE:GREGORIAN
BEGIN:VEVENT
DTSTART:20210318T170000Z
DTEND:20210318T180000Z
X-MICROSOFT-CDO-ALLDAYEVENT:FALSE
SUMMARY:Agribusiness Committee
DESCRIPTION:
X-ALT-DESC;FMTTYPE=text/html:
LOCATION:Hybrid Zoom and In Person (Chamber Board Room)
UID:e.3086.6797
SEQUENCE:3
DTSTAMP:20260421T092504Z
URL:https://business.aberdeen-chamber.com/events/details/agribusiness-committee-03-18-2021-6797
END:VEVENT

END:VCALENDAR
