BEGIN:VCALENDAR
VERSION:2.0
PRODID:-//ChamberMaster//Event Calendar 2.0//EN
METHOD:PUBLISH
X-PUBLISHED-TTL:P3D
REFRESH-INTERVAL:P3D
CALSCALE:GREGORIAN
BEGIN:VEVENT
DTSTART:20251023T170000Z
DTEND:20251023T180000Z
X-MICROSOFT-CDO-ALLDAYEVENT:FALSE
SUMMARY:Ag Committee Meeting
DESCRIPTION:The purpose of the Ag Committee is to promote agriculture as a major segment of the local economy\, to address & educate the membership on issues important to agriculture\, to unite & network groups through ag-related programs & events and to recognize outstanding achievements in agriculture.
X-ALT-DESC;FMTTYPE=text/html:<span style="font-family: arial\; font-size: 14px\;">The purpose of the Ag Committee is to promote agriculture as a major segment of the local economy\, to address &amp\; educate the membership on issues important to agriculture\, to unite &amp\; network groups through ag-related programs &amp\; events and to recognize outstanding achievements in agriculture.</span>
LOCATION:Chamber Conference Room or Zoom Aberdeen Area Chamber of Commerce is inviting you to a scheduled Zoom meeting. Join Zoom Meeting https://us06web.zoom.us/j/85857144073?pwd=K3doTnpFSnFwSTIzSEo4WkpRWG1VQT09 Meeting ID: 858 5714 4073 Passcode: 329193
UID:e.3086.9456
SEQUENCE:3
DTSTAMP:20260419T134150Z
URL:https://business.aberdeen-chamber.com/events/details/ag-committee-meeting-9456
END:VEVENT

END:VCALENDAR
