BEGIN:VCALENDAR
VERSION:2.0
PRODID:-//ChamberMaster//Event Calendar 2.0//EN
METHOD:PUBLISH
X-PUBLISHED-TTL:P3D
REFRESH-INTERVAL:P3D
CALSCALE:GREGORIAN
BEGIN:VEVENT
DTSTART:20250626T170000Z
DTEND:20250626T180000Z
X-MICROSOFT-CDO-ALLDAYEVENT:FALSE
SUMMARY:Ag Committee Meeting
DESCRIPTION:The purpose of the Ag Committee is to promote agriculture as a major segment of the local economy\, to address & educate the membership on issues important to agriculture\, to unite & network groups through ag-related programs & events and to recognize outstanding achievements in agriculture.
X-ALT-DESC;FMTTYPE=text/html:<span style="font-size:14px\;"><span style="font-family:arial\;">The purpose of the Ag Committee is to promote agriculture as a major segment of the local economy\, to address &amp\; educate the membership on issues important to agriculture\, to unite &amp\; network groups through ag-related programs &amp\; events and to recognize outstanding achievements in agriculture.</span></span><br />\n&nbsp\;
LOCATION:
UID:e.3086.9427
SEQUENCE:3
DTSTAMP:20260419T181154Z
URL:https://business.aberdeen-chamber.com/events/details/ag-committee-meeting-9427
END:VEVENT

END:VCALENDAR
